BEGIN:VCALENDAR
VERSION:2.0
PRODID:-//50.87.138.171//NONSGML kigkonsult.se iCalcreator 2.26.9//
CALSCALE:GREGORIAN
METHOD:PUBLISH
X-FROM-URL:https://dennisvillelakeresort.net
X-WR-TIMEZONE:America/New_York
BEGIN:VTIMEZONE
TZID:America/New_York
X-LIC-LOCATION:America/New_York
BEGIN:STANDARD
DTSTART:20251102T020000
TZOFFSETFROM:-0400
TZOFFSETTO:-0500
RDATE:20261101T020000
TZNAME:EST
END:STANDARD
BEGIN:DAYLIGHT
DTSTART:20260308T020000
TZOFFSETFROM:-0500
TZOFFSETTO:-0400
RDATE:20270314T020000
TZNAME:EDT
END:DAYLIGHT
END:VTIMEZONE
BEGIN:VEVENT
UID:ai1ec-987@dennisvillelakeresort.net
DTSTAMP:20260423T133556Z
CATEGORIES;LANGUAGE=en-US:Business &amp\; Administration
CONTACT:
DESCRIPTION:
DTSTART;VALUE=DATE:20240803
DTEND;VALUE=DATE:20240804
LOCATION:DLR Clubhouse
SEQUENCE:0
SUMMARY:Annual Meeting
URL:https://dennisvillelakeresort.net/event/annual-meeting/
X-COST-TYPE:free
END:VEVENT
END:VCALENDAR
